BEGIN:VCALENDAR
VERSION:2.0
PRODID:GIGPRESS 2.0 WORDPRESS PLUGIN
CALSCALE:GREGORIAN
X-WR-TIMEZONE:Etc/GMT
METHOD:PUBLISH
BEGIN:VTIMEZONE
TZID:GMT
BEGIN:STANDARD
DTSTART:20071028T010000
TZOFFSETTO:+0000
TZOFFSETFROM:+0000
END:STANDARD
END:VTIMEZONE
BEGIN:VEVENT
SUMMARY:Smokestack Lightnin' \, JAMKRAUT Festival
DESCRIPTION:
LOCATION:JAMKRAUT Festival\, Adelmannsdorf\, DE
UID:20260626-248-rob@inphusion.com
URL:https://www.smokestacklightnin.de
DTSTART;VALUE=DATE;TZID=GMT:20260626
DTEND;VALUE=DATE;TZID=GMT:20260626
DTSTAMP:20260420T083016Z
END:VEVENT
END:VCALENDAR